Workbook

Sheet Instructions
A1: 2027 Sask Lotteries Community Grant Program - Program Budget & Expenditure Verification Workbook
A3: What is the purpose of this workbook?
A4: You must use this workbook to record your program’s expected revenue and expenses when applying for funding. If approved, you must use the same workbook after your program to report your actual revenue, expenses and staff hours.
A5: The workbook has two working tabs: “Application - Proposed Budget” and “Followup Report - Actual Budget”.
A7: How do I use this workbook to apply for SLCGP funding?
A8: To apply for funding, use the 'Application – Proposed Budget' tab #2 in the workbook.
A9: 1. Open the workbook and select the 'Application – Proposed Budget' tab #2.
A10: 2. Enter your organization’s proposed revenue and expenses in the yellow cells.
A11: 3. Under Revenue, list all anticipated sources of funding for your program or activity, including the amount you are requesting from SLCGP and any other funding sources.
A12: 4. Under Expenses, list the costs you expect to incur to deliver your program or activity.
A13: 5. Review the automatically calculated totals to confirm that your proposed budget is complete and accurate.
A14: 6. Save the completed workbook and submit it with your SLCGP application, following the submission instructions in the program guidelines.
... A37: 3. Report actual amounts using the same budget categories as your original application.

Sheet Application - Proposed Budget
A1: 2027 Sask Lotteries Community Grant Program - Program Budget & Expenditure Verification Workbook
A2: Proposed Budget Application
A3: Instructions: Only fill out the shaded yellow cells. Do not insert rows mid-table. Add new items in the blank rows provided to ensure automatic updates.
A4: Revenue Categories
A5: Category | B5: Proposed Amount
A6: Registration or Participant fees | B6: 0
A7: Fundraising | B7: 0
A8: Sponsorships | B8: 0
A9: SLCGP funding request amount | B9: 0
A10: Other grants (please list below)
B11: 0
B12: 0
B13: 0
A14: Other revenue (please list below)
B15: 0
B16: 0
B17: 0
B18: 0
B19: 0
A20: Contribution from your organization | B20: 0
A21: Total Revenue | B21: =SUM(B6:B20) -> 0
A23: Expense Categories
A24: Category | B24: Proposed Amount
A25: Staff salaries | B25: 0
A26: Facilties | B26: 0
A27: Equipment | B27: 0
A28: Supplies | B28: 0
A29: Participant transportation | B29: 0
A30: Other expenses (please list below) | B30: 0
B31: 0
B32: 0
B33: 0
B34: 0
B35: 0
B36: 0
B37: 0
B38: 0
B39: 0
A40: Total Expenses | B40: =SUM(B25:B39) -> 0
A42: Net Surplus / (Deficit) | B42: =B21-B40 -> 0

Sheet Followup Report - Actual Budget
A1: 2027 Sask Lotteries Community Grant Program - Program Budget & Expenditure Verification Workbook
A2: Actual Expenditures & Staff Reporting
A4: Instructions: 1. Revenue actuals are tracked in Column C. 2. Expenses must be split between 'Charged to SLCGP' (allowable grant costs) and 'Paid by Group' (self-funded or ineligible costs). 3. Complete the Staff Tracker at the bottom to verify grant hour rules.
A5: Note: Do not insert rows mid-table; add new items in the blank rows provided to ensure automatic cross-tab updates.
A8: Revenue Tracking
A9: Revenue Category | B9: Proposed Amount | C9: Actual Revenue | D9: Revenue Variance
A10: ='Application - Proposed Budget'!A6 -> Registration or Participant fees | B10: ='Application - Proposed Budget'!B6 -> 0 | C10: 0 | D10: =C10-B10 -> 0
A11: ='Application - Proposed Budget'!A7 -> Fundraising | B11: ='Application - Proposed Budget'!B7 -> 0 | C11: 0 | D11: =C11-B11 -> 0
A12: ='Application - Proposed Budget'!A8 -> Sponsorships | B12: ='Application - Proposed Budget'!B8 -> 0 | C12: 0 | D12: =C12-B12 -> 0
A13: ='Application - Proposed Budget'!A9 -> SLCGP funding request amount | B13: ='Application - Proposed Budget'!B9 -> 0 | C13: 0 | D13: =C13-B13 -> 0
A14: ='Application - Proposed Budget'!A10 -> Other grants (please list below) | B14: ='Application - Proposed Budget'!B10 -> 0 | C14: 0 | D14: =C14-B14 -> 0
A15: ='Application - Proposed Budget'!A11 -> 0 | B15: ='Application - Proposed Budget'!B11 -> 0 | C15: 0 | D15: =C15-B15 -> 0
A16: ='Application - Proposed Budget'!A12 -> 0 | B16: ='Application - Proposed Budget'!B12 -> 0 | C16: 0 | D16: =C16-B16 -> 0
A17: ='Application - Proposed Budget'!A13 -> 0 | B17: ='Application - Proposed Budget'!B13 -> 0 | C17: 0 | D17: =C17-B17 -> 0
A18: ='Application - Proposed Budget'!A14 -> Other revenue (please list below) | B18: ='Application - Proposed Budget'!B14 -> 0 | C18: 0 | D18: =C18-B18 -> 0
A19: ='Application - Proposed Budget'!A15 -> 0 | B19: ='Application - Proposed Budget'!B15 -> 0 | C19: 0 | D19: =C19-B19 -> 0
A20: ='Application - Proposed Budget'!A16 -> 0 | B20: ='Application - Proposed Budget'!B16 -> 0 | C20: 0 | D20: =C20-B20 -> 0
A21: ='Application - Proposed Budget'!A17 -> 0 | B21: ='Application - Proposed Budget'!B17 -> 0 | C21: 0 | D21: =C21-B21 -> 0
... A24: ='Application - Proposed Budget'!A20 -> Contribution from your organization | B24: ='Application - Proposed Budget'!B20 -> 0 | C24: 0 | D24: =C24-B24 -> 0
A25: Total Revenue | B25: =SUM(B10:B24) -> 0 | C25: =SUM(C10:C24) -> 0 | D25: =SUM(D10:D24) -> 0
A27: Expense Tracking
A28: Expense Category | B28: Proposed Amount | C28: Charged to SLCGP | D28: Paid by Group | E28: Total Actual Cost | F28: Expense Variance
A29: ='Application - Proposed Budget'!A25 -> Staff salaries | B29: ='Application - Proposed Budget'!B25 -> 0 | C29: 0 | D29: 0 | E29: =SUM(C29:D29) -> 0 | F29: =B29-E29 -> 0
A30: ='Application - Proposed Budget'!A26 -> Facilties | B30: ='Application - Proposed Budget'!B26 -> 0 | C30: 0 | D30: 0 | E30: =SUM(C30:D30) -> 0 | F30: =B30-E30 -> 0
A31: ='Application - Proposed Budget'!A27 -> Equipment | B31: ='Application - Proposed Budget'!B27 -> 0 | C31: 0 | D31: 0 | E31: =SUM(C31:D31) -> 0 | F31: =B31-E31 -> 0
A32: ='Application - Proposed Budget'!A28 -> Supplies | B32: ='Application - Proposed Budget'!B28 -> 0 | C32: 0 | D32: 0 | E32: =SUM(C32:D32) -> 0 | F32: =B32-E32 -> 0
A33: ='Application - Proposed Budget'!A29 -> Participant transportation | B33: ='Application - Proposed Budget'!B29 -> 0 | C33: 0 | D33: 0 | E33: =SUM(C33:D33) -> 0 | F33: =B33-E33 -> 0
A34: ='Application - Proposed Budget'!A30 -> Other expenses (please list below) | B34: ='Application - Proposed Budget'!B30 -> 0 | C34: 0 | D34: 0 | E34: =SUM(C34:D34) -> 0 | F34: =B34-E34 -> 0
A35: ='Application - Proposed Budget'!A31 -> 0 | B35: ='Application - Proposed Budget'!B31 -> 0 | C35: 0 | D35: 0 | E35: =SUM(C35:D35) -> 0 | F35: =B35-E35 -> 0
A36: ='Application - Proposed Budget'!A32 -> 0 | B36: ='Application - Proposed Budget'!B32 -> 0 | C36: 0 | D36: 0 | E36: =SUM(C36:D36) -> 0 | F36: =B36-E36 -> 0
A37: ='Application - Proposed Budget'!A33 -> 0 | B37: ='Application - Proposed Budget'!B33 -> 0 | C37: 0 | D37: 0 | E37: =SUM(C37:D37) -> 0 | F37: =B37-E37 -> 0
A38: ='Application - Proposed Budget'!A34 -> 0 | B38: ='Application - Proposed Budget'!B34 -> 0 | C38: 0 | D38: 0 | E38: =SUM(C38:D38) -> 0 | F38: =B38-E38 -> 0
A39: ='Application - Proposed Budget'!A35 -> 0 | B39: ='Application - Proposed Budget'!B35 -> 0 | C39: 0 | D39: 0 | E39: =SUM(C39:D39) -> 0 | F39: =B39-E39 -> 0
A40: ='Application - Proposed Budget'!A36 -> 0 | B40: ='Application - Proposed Budget'!B36 -> 0 | C40: 0 | D40: 0 | E40: =SUM(C40:D40) -> 0 | F40: =B40-E40 -> 0
... A43: ='Application - Proposed Budget'!A39 -> 0 | B43: ='Application - Proposed Budget'!B39 -> 0 | C43: 0 | D43: 0 | E43: =SUM(C43:D43) -> 0 | F43: =B43-E43 -> 0
A44: Total Expenses | B44: =SUM(B29:B43) -> 0 | C44: =SUM(C29:C43) -> 0 | D44: =SUM(D29:D43) -> 0 | E44: =SUM(E29:E43) -> 0 | F44: =SUM(F29:F43) -> 0
A46: Net Surplus / (Deficit) | B46: =B25-B44 -> 0 | C46: =C25-C44 -> 0 | E46: =E25-E44 -> 0
A48: Grant Compliance Staff Reporting
A49: Staff Name | B49: Avg Hours / Week | C49: Total Weeks Worked | D49: Total Hours Worked | E49: Compliance Status
A50: Jane Doe (Example) | B50: 32 | C50: 12 | D50: =B50*C50 -> 384 | E50: =IF(OR(B50>35, D50>455), "⚠️ VIOLATION", "✅ Compliant") -> ✅ Compliant
...
